BEGIN:VCALENDAR
VERSION:2.0
PRODID:-//Sabre//Sabre VObject 4.5.8//EN
CALSCALE:GREGORIAN
BEGIN:VEVENT
UID:sabre-vobject-e867fffd-2f49-43f1-a878-7fcf30d7b1c9
DTSTAMP:20260421T115944Z
SUMMARY:Die kleine Raupe
DESCRIPTION:https://regioningolstadt.com/die-kleine-raupe_id44086
DTSTART;TZID=Europe/Berlin:20260517T160000
DTEND;TZID=Europe/Berlin:20260517T164000
LOCATION:Neuburger Marionettentheater\, Amalienstraße 8\, 86633 Neuburg an
  der Donau
END:VEVENT
END:VCALENDAR
