BEGIN:VCALENDAR
VERSION:2.0
PRODID:-//Sabre//Sabre VObject 4.5.8//EN
CALSCALE:GREGORIAN
BEGIN:VEVENT
UID:sabre-vobject-3538c051-8492-465d-a7e8-f6b947b2da5e
DTSTAMP:20260421T114158Z
SUMMARY:Die kleine Raupe
DESCRIPTION:https://regioningolstadt.com/die-kleine-raupe_id44085
DTSTART;TZID=Europe/Berlin:20260516T160000
DTEND;TZID=Europe/Berlin:20260516T164000
LOCATION:Neuburger Marionettentheater\, Amalienstraße 8\, 86633 Neuburg an
  der Donau
END:VEVENT
END:VCALENDAR
