BEGIN:VCALENDAR
VERSION:2.0
PRODID:-//Sabre//Sabre VObject 4.5.8//EN
CALSCALE:GREGORIAN
BEGIN:VEVENT
UID:sabre-vobject-4d1c372c-4f5f-42b1-88df-b2be44f9a240
DTSTAMP:20260419T153553Z
SUMMARY:Rundwanderung zur Schutterquelle über Aicha und Hard
DESCRIPTION:https://regioningolstadt.com/rundwanderung-zur-schutterquelle-u
 eber-aicha-und-hard_id43980
DTSTART;TZID=Europe/Berlin:20261027T124500
DURATION:PT30M
END:VEVENT
END:VCALENDAR
