BEGIN:VCALENDAR
VERSION:2.0
PRODID:-//Sabre//Sabre VObject 4.5.8//EN
CALSCALE:GREGORIAN
BEGIN:VEVENT
UID:sabre-vobject-119543be-b72c-4a33-a63f-7a7ab7dbc4fd
DTSTAMP:20260422T111156Z
SUMMARY:Rundwanderung Neuer Weg\, Wintershof
DESCRIPTION:https://regioningolstadt.com/rundwanderung-neuer-weg-wintershof
 _id43978
DTSTART;TZID=Europe/Berlin:20260728T124500
DURATION:PT30M
END:VEVENT
END:VCALENDAR
