BEGIN:VCALENDAR
VERSION:2.0
PRODID:-//Sabre//Sabre VObject 4.5.8//EN
CALSCALE:GREGORIAN
BEGIN:VEVENT
UID:sabre-vobject-39aff90a-8ffc-4049-927f-73be8fb27258
DTSTAMP:20260422T000142Z
SUMMARY:Rundwanderung über den Dürrenbeg bei Hohenried
DESCRIPTION:https://regioningolstadt.com/rundwanderung-ueber-den-duerrenbeg
 -bei-hohenried_id43977
DTSTART;TZID=Europe/Berlin:20260623T124500
DURATION:PT30M
END:VEVENT
END:VCALENDAR
