BEGIN:VCALENDAR
VERSION:2.0
PRODID:-//Sabre//Sabre VObject 4.5.8//EN
CALSCALE:GREGORIAN
BEGIN:VEVENT
UID:sabre-vobject-f5831680-c8d3-42f4-b736-8fef2a552b97
DTSTAMP:20260421T161443Z
SUMMARY:Rundwanderung über Gumppenberg zurück nach Pöttmes
DESCRIPTION:https://regioningolstadt.com/rundwanderung-ueber-gumppenberg-zu
 rueck-nach-poettmes_id43976
DTSTART;TZID=Europe/Berlin:20260526T124500
DURATION:PT30M
END:VEVENT
END:VCALENDAR
