BEGIN:VCALENDAR
VERSION:2.0
PRODID:-//Sabre//Sabre VObject 4.5.8//EN
CALSCALE:GREGORIAN
BEGIN:VEVENT
UID:sabre-vobject-6cc06769-36a8-48c8-8d5c-9d95f539093b
DTSTAMP:20260420T111408Z
SUMMARY:NEU! Sapperlot\, was seh' ich da?
DESCRIPTION:https://regioningolstadt.com/neu-sapperlot-was-seh-ich-da_id439
 62
DTSTART;TZID=Europe/Berlin:20260828T190000
DTEND;TZID=Europe/Berlin:20260828T203000
LOCATION:Tourist-Information\, Ottheinrichplatz A 118\, 86633 Neuburg
END:VEVENT
END:VCALENDAR
