BEGIN:VCALENDAR
VERSION:2.0
PRODID:-//Sabre//Sabre VObject 4.5.8//EN
CALSCALE:GREGORIAN
BEGIN:VEVENT
UID:sabre-vobject-4edc3365-c7ad-44e5-bbf3-ace1b86a091e
DTSTAMP:20260421T191944Z
SUMMARY:NEU! Sapperlot\, was seh' ich da?
DESCRIPTION:https://regioningolstadt.com/neu-sapperlot-was-seh-ich-da_id439
 61
DTSTART;TZID=Europe/Berlin:20260607T190000
DTEND;TZID=Europe/Berlin:20260607T203000
LOCATION:Tourist-Information\, Ottheinrichplatz A 118\, 86633 Neuburg
END:VEVENT
END:VCALENDAR
