BEGIN:VCALENDAR
VERSION:2.0
PRODID:-//Sabre//Sabre VObject 4.5.8//EN
CALSCALE:GREGORIAN
BEGIN:VEVENT
UID:sabre-vobject-9f4357a4-3954-4c5b-b7b2-196d62f19014
DTSTAMP:20260419T220322Z
SUMMARY:NEU! Sapperlot\, was seh' ich da?
DESCRIPTION:https://regioningolstadt.com/neu-sapperlot-was-seh-ich-da_id439
 60
DTSTART;TZID=Europe/Berlin:20260503T190000
DTEND;TZID=Europe/Berlin:20260503T203000
LOCATION:Tourist-Information\, Ottheinrichplatz A 118\, 86633 Neuburg
END:VEVENT
END:VCALENDAR
