BEGIN:VCALENDAR
VERSION:2.0
PRODID:-//Sabre//Sabre VObject 4.5.8//EN
CALSCALE:GREGORIAN
BEGIN:VEVENT
UID:sabre-vobject-9b7db85a-b9ca-4b7d-9ba2-e6355dafdab4
DTSTAMP:20260422T112417Z
SUMMARY:Barock bis Rock 2026
DESCRIPTION:https://regioningolstadt.com/barock-bis-rock-2026_id43948
DTSTART;TZID=Europe/Berlin:20260725T193000
DTEND;TZID=Europe/Berlin:20260725T235900
LOCATION:Stadtmuseum Neuburg an der Donau\, Amalienstraße  19\, 86633 Neub
 urg an der Donau
END:VEVENT
END:VCALENDAR
