BEGIN:VCALENDAR
VERSION:2.0
PRODID:-//Sabre//Sabre VObject 4.5.8//EN
CALSCALE:GREGORIAN
BEGIN:VEVENT
UID:sabre-vobject-006b6ef2-f5f4-42ca-a5af-e409809835d2
DTSTAMP:20260422T100238Z
SUMMARY:Barock bis Rock 2026
DESCRIPTION:https://regioningolstadt.com/barock-bis-rock-2026_id43947
DTSTART;TZID=Europe/Berlin:20260724T193000
DTEND;TZID=Europe/Berlin:20260724T235900
LOCATION:Stadtmuseum Neuburg an der Donau\, Amalienstraße  19\, 86633 Neub
 urg an der Donau
END:VEVENT
END:VCALENDAR
