BEGIN:VCALENDAR
VERSION:2.0
PRODID:-//Sabre//Sabre VObject 4.5.8//EN
CALSCALE:GREGORIAN
BEGIN:VEVENT
UID:sabre-vobject-fa8dd947-17e4-4045-987b-87cc1be5890f
DTSTAMP:20260420T094819Z
SUMMARY:Öffentliche Stadtführung
DESCRIPTION:https://regioningolstadt.com/oeffentliche-stadtfuehrung_id43853
DTSTART;TZID=Europe/Berlin:20260829T160000
DTEND;TZID=Europe/Berlin:20260829T173000
LOCATION:Tourist-Information\, Ottheinrichplatz A 118\, 86633 Neuburg
END:VEVENT
END:VCALENDAR
