BEGIN:VCALENDAR
VERSION:2.0
PRODID:-//Sabre//Sabre VObject 4.5.8//EN
CALSCALE:GREGORIAN
BEGIN:VEVENT
UID:sabre-vobject-98903ded-4455-4ee3-9254-23c3e7a91a00
DTSTAMP:20260422T110429Z
SUMMARY:Öffentliche Stadtführung
DESCRIPTION:https://regioningolstadt.com/oeffentliche-stadtfuehrung_id43848
DTSTART;TZID=Europe/Berlin:20260725T160000
DTEND;TZID=Europe/Berlin:20260725T173000
LOCATION:Tourist-Information\, Ottheinrichplatz A 118\, 86633 Neuburg
END:VEVENT
END:VCALENDAR
