BEGIN:VCALENDAR
VERSION:2.0
PRODID:-//Sabre//Sabre VObject 4.5.8//EN
CALSCALE:GREGORIAN
BEGIN:VEVENT
UID:sabre-vobject-78219245-272a-4f4d-88cf-81a9f0a1e691
DTSTAMP:20260420T130614Z
SUMMARY:Öffentliche Stadtführung
DESCRIPTION:https://regioningolstadt.com/oeffentliche-stadtfuehrung_id43821
DTSTART;TZID=Europe/Berlin:20260816T143000
DTEND;TZID=Europe/Berlin:20260816T160000
LOCATION:Tourist-Information\, Ottheinrichplatz A 118\, 86633 Neuburg
END:VEVENT
END:VCALENDAR
