BEGIN:VCALENDAR
VERSION:2.0
PRODID:-//Sabre//Sabre VObject 4.5.8//EN
CALSCALE:GREGORIAN
BEGIN:VEVENT
UID:sabre-vobject-e080d59d-a8ef-4d8d-8ad0-9fcf5a18d216
DTSTAMP:20260422T071151Z
SUMMARY:Öffentliche Stadtführung
DESCRIPTION:https://regioningolstadt.com/oeffentliche-stadtfuehrung_id43815
DTSTART;TZID=Europe/Berlin:20260705T143000
DTEND;TZID=Europe/Berlin:20260705T160000
LOCATION:Tourist-Information\, Ottheinrichplatz A 118\, 86633 Neuburg
END:VEVENT
END:VCALENDAR
