BEGIN:VCALENDAR
VERSION:2.0
PRODID:-//Sabre//Sabre VObject 4.5.8//EN
CALSCALE:GREGORIAN
BEGIN:VEVENT
UID:sabre-vobject-97fee02f-c9e1-4cc2-bc6c-8b58cc7ce319
DTSTAMP:20260422T090723Z
SUMMARY:Öffentliche Stadtführung
DESCRIPTION:https://regioningolstadt.com/oeffentliche-stadtfuehrung_id43792
DTSTART;TZID=Europe/Berlin:20260820T143000
DTEND;TZID=Europe/Berlin:20260820T160000
LOCATION:Tourist-Information\, Ottheinrichplatz A 118\, 86633 Neuburg
END:VEVENT
END:VCALENDAR
