BEGIN:VCALENDAR
VERSION:2.0
PRODID:-//Sabre//Sabre VObject 4.5.8//EN
CALSCALE:GREGORIAN
BEGIN:VEVENT
UID:sabre-vobject-4152283c-b59a-4f63-a8a8-5da31b8f1dc4
DTSTAMP:20260420T113239Z
SUMMARY:Öffentliche Stadtführung
DESCRIPTION:https://regioningolstadt.com/oeffentliche-stadtfuehrung_id43791
DTSTART;TZID=Europe/Berlin:20260813T143000
DTEND;TZID=Europe/Berlin:20260813T160000
LOCATION:Tourist-Information\, Ottheinrichplatz A 118\, 86633 Neuburg
END:VEVENT
END:VCALENDAR
