BEGIN:VCALENDAR
VERSION:2.0
PRODID:-//Sabre//Sabre VObject 4.5.8//EN
CALSCALE:GREGORIAN
BEGIN:VEVENT
UID:sabre-vobject-b09d1b6e-aee1-479b-8962-d52151351ec7
DTSTAMP:20260421T180111Z
SUMMARY:Öffentliche Stadtführung
DESCRIPTION:https://regioningolstadt.com/oeffentliche-stadtfuehrung_id43751
DTSTART;TZID=Europe/Berlin:20260602T143000
DTEND;TZID=Europe/Berlin:20260602T160000
LOCATION:Tourist-Information\, Ottheinrichplatz A 118\, 86633 Neuburg
END:VEVENT
END:VCALENDAR
