BEGIN:VCALENDAR
VERSION:2.0
PRODID:-//Sabre//Sabre VObject 4.5.8//EN
CALSCALE:GREGORIAN
BEGIN:VEVENT
UID:sabre-vobject-140d5ddf-ebbc-4aca-9f7f-bbbea32b13fd
DTSTAMP:20260420T113206Z
SUMMARY: Provinzialbibliotheksführung
DESCRIPTION:https://regioningolstadt.com/provinzialbibliotheksfuehrung_id43
 703
DTSTART;TZID=Europe/Berlin:20260819T143000
DTEND;TZID=Europe/Berlin:20260819T151500
LOCATION:Provinzialbibliothek\, Karlsplatz 17\, 86633 Neuburg an der Donau
END:VEVENT
END:VCALENDAR
