BEGIN:VCALENDAR
VERSION:2.0
PRODID:-//Sabre//Sabre VObject 4.5.8//EN
CALSCALE:GREGORIAN
BEGIN:VEVENT
UID:sabre-vobject-2e5dfb77-d4d3-4d10-8200-cdfa45e6b8fd
DTSTAMP:20260422T071150Z
SUMMARY: Provinzialbibliotheksführung
DESCRIPTION:https://regioningolstadt.com/provinzialbibliotheksfuehrung_id43
 696
DTSTART;TZID=Europe/Berlin:20260701T143000
DTEND;TZID=Europe/Berlin:20260701T151500
LOCATION:Provinzialbibliothek\, Karlsplatz 17\, 86633 Neuburg an der Donau
END:VEVENT
END:VCALENDAR
