BEGIN:VCALENDAR
VERSION:2.0
PRODID:-//Sabre//Sabre VObject 4.5.8//EN
CALSCALE:GREGORIAN
BEGIN:VEVENT
UID:sabre-vobject-d77f7f5c-e527-4456-a153-b4b678a979a4
DTSTAMP:20260421T180120Z
SUMMARY: Provinzialbibliotheksführung
DESCRIPTION:https://regioningolstadt.com/provinzialbibliotheksfuehrung_id43
 692
DTSTART;TZID=Europe/Berlin:20260603T143000
DTEND;TZID=Europe/Berlin:20260603T151500
LOCATION:Provinzialbibliothek\, Karlsplatz 17\, 86633 Neuburg an der Donau
END:VEVENT
END:VCALENDAR
