BEGIN:VCALENDAR
VERSION:2.0
PRODID:-//Sabre//Sabre VObject 4.5.8//EN
CALSCALE:GREGORIAN
BEGIN:VEVENT
UID:sabre-vobject-d31a4e7a-aa19-4769-9dc6-0cc928a94375
DTSTAMP:20260421T162842Z
SUMMARY: Provinzialbibliotheksführung
DESCRIPTION:https://regioningolstadt.com/provinzialbibliotheksfuehrung_id43
 691
DTSTART;TZID=Europe/Berlin:20260527T143000
DTEND;TZID=Europe/Berlin:20260527T151500
LOCATION:Provinzialbibliothek\, Karlsplatz 17\, 86633 Neuburg an der Donau
END:VEVENT
END:VCALENDAR
