BEGIN:VCALENDAR
VERSION:2.0
PRODID:-//Sabre//Sabre VObject 4.5.8//EN
CALSCALE:GREGORIAN
BEGIN:VEVENT
UID:sabre-vobject-53b1c307-fdae-4786-877d-a110eaf0cbe7
DTSTAMP:20260420T000051Z
SUMMARY: Provinzialbibliotheksführung
DESCRIPTION:https://regioningolstadt.com/provinzialbibliotheksfuehrung_id43
 689
DTSTART;TZID=Europe/Berlin:20260513T143000
DTEND;TZID=Europe/Berlin:20260513T151500
LOCATION:Provinzialbibliothek\, Karlsplatz 17\, 86633 Neuburg an der Donau
END:VEVENT
END:VCALENDAR
