BEGIN:VCALENDAR
VERSION:2.0
PRODID:-//Sabre//Sabre VObject 4.5.8//EN
CALSCALE:GREGORIAN
BEGIN:VEVENT
UID:sabre-vobject-987f4f5c-be1e-4b01-bb2d-ac7271f6fbda
DTSTAMP:20260420T094759Z
SUMMARY:Von der Alten Kaserne zum neuen Campus
DESCRIPTION:https://regioningolstadt.com/von-der-alten-kaserne-zum-neuen-ca
 mpus_id43649
DTSTART;TZID=Europe/Berlin:20260904T170000
DTEND;TZID=Europe/Berlin:20260904T183000
LOCATION:Parkplatz "Landratsamt"\, Platz-der-Deutschen-Einheit 1\, 86633 Ne
 uburg
END:VEVENT
END:VCALENDAR
