BEGIN:VCALENDAR
VERSION:2.0
PRODID:-//Sabre//Sabre VObject 4.5.8//EN
CALSCALE:GREGORIAN
BEGIN:VEVENT
UID:sabre-vobject-70c92ff1-11c6-4ea7-be55-63ee1bcf3029
DTSTAMP:20260421T191939Z
SUMMARY:Von der Alten Kaserne zum neuen Campus
DESCRIPTION:https://regioningolstadt.com/von-der-alten-kaserne-zum-neuen-ca
 mpus_id43646
DTSTART;TZID=Europe/Berlin:20260605T170000
DTEND;TZID=Europe/Berlin:20260605T183000
LOCATION:Parkplatz "Landratsamt"\, Platz-der-Deutschen-Einheit 1\, 86633 Ne
 uburg
END:VEVENT
END:VCALENDAR
