BEGIN:VCALENDAR
VERSION:2.0
PRODID:-//Sabre//Sabre VObject 4.5.8//EN
CALSCALE:GREGORIAN
BEGIN:VEVENT
UID:sabre-vobject-65b4033a-d15e-4a85-a1a7-83cd3f6beb17
DTSTAMP:20260419T202018Z
SUMMARY:Von der Alten Kaserne zum neuen Campus
DESCRIPTION:https://regioningolstadt.com/von-der-alten-kaserne-zum-neuen-ca
 mpus_id43645
DTSTART;TZID=Europe/Berlin:20260501T170000
DTEND;TZID=Europe/Berlin:20260501T183000
LOCATION:Parkplatz "Landratsamt"\, Platz-der-Deutschen-Einheit 1\, 86633 Ne
 uburg
END:VEVENT
END:VCALENDAR
