BEGIN:VCALENDAR
VERSION:2.0
PRODID:-//Sabre//Sabre VObject 4.5.8//EN
CALSCALE:GREGORIAN
BEGIN:VEVENT
UID:sabre-vobject-8b70dc65-41e8-417d-a548-a21d9ef8a423
DTSTAMP:20260421T180121Z
SUMMARY:Vulkane - Explosive Ventile der Erde 
DESCRIPTION:https://regioningolstadt.com/vulkane-explosive-ventile-der-erde
 _id43580
DTSTART;TZID=Europe/Berlin:20260604T100000
DTEND;TZID=Europe/Berlin:20260604T170000
LOCATION:Ottheinrichturm\, \, 86633 Neuburg an der Donau
END:VEVENT
END:VCALENDAR
