BEGIN:VCALENDAR
VERSION:2.0
PRODID:-//Sabre//Sabre VObject 4.5.8//EN
CALSCALE:GREGORIAN
BEGIN:VEVENT
UID:sabre-vobject-1baa8197-9eec-4343-b79b-41593c1ea5e8
DTSTAMP:20260419T135754Z
SUMMARY:Vulkane - Explosive Ventile der Erde 
DESCRIPTION:https://regioningolstadt.com/vulkane-explosive-ventile-der-erde
 _id43569
DTSTART;TZID=Europe/Berlin:20261129T100000
DTEND;TZID=Europe/Berlin:20261129T170000
LOCATION:Ottheinrichturm\, \, 86633 Neuburg an der Donau
END:VEVENT
END:VCALENDAR
