BEGIN:VCALENDAR
VERSION:2.0
PRODID:-//Sabre//Sabre VObject 4.5.8//EN
CALSCALE:GREGORIAN
BEGIN:VEVENT
UID:sabre-vobject-8e3ba08f-d423-420c-8661-478cd69fda69
DTSTAMP:20260420T113205Z
SUMMARY:Vulkane - Explosive Ventile der Erde 
DESCRIPTION:https://regioningolstadt.com/vulkane-explosive-ventile-der-erde
 _id43553
DTSTART;TZID=Europe/Berlin:20260809T100000
DTEND;TZID=Europe/Berlin:20260809T170000
LOCATION:Ottheinrichturm\, \, 86633 Neuburg an der Donau
END:VEVENT
END:VCALENDAR
