BEGIN:VCALENDAR
VERSION:2.0
PRODID:-//Sabre//Sabre VObject 4.5.8//EN
CALSCALE:GREGORIAN
BEGIN:VEVENT
UID:sabre-vobject-b82e1ddd-5afb-4112-8dec-475756bd4a4f
DTSTAMP:20260422T065221Z
SUMMARY:Vulkane - Explosive Ventile der Erde 
DESCRIPTION:https://regioningolstadt.com/vulkane-explosive-ventile-der-erde
 _id43548
DTSTART;TZID=Europe/Berlin:20260705T100000
DTEND;TZID=Europe/Berlin:20260705T170000
LOCATION:Ottheinrichturm\, \, 86633 Neuburg an der Donau
END:VEVENT
END:VCALENDAR
