BEGIN:VCALENDAR
VERSION:2.0
PRODID:-//Sabre//Sabre VObject 4.5.8//EN
CALSCALE:GREGORIAN
BEGIN:VEVENT
UID:sabre-vobject-522fc407-3afd-4202-b0b7-614763293908
DTSTAMP:20260421T115942Z
SUMMARY:Vulkane - Explosive Ventile der Erde 
DESCRIPTION:https://regioningolstadt.com/vulkane-explosive-ventile-der-erde
 _id43541
DTSTART;TZID=Europe/Berlin:20260517T100000
DTEND;TZID=Europe/Berlin:20260517T170000
LOCATION:Ottheinrichturm\, \, 86633 Neuburg an der Donau
END:VEVENT
END:VCALENDAR
