BEGIN:VCALENDAR
VERSION:2.0
PRODID:-//Sabre//Sabre VObject 4.5.8//EN
CALSCALE:GREGORIAN
BEGIN:VEVENT
UID:sabre-vobject-01f8425d-3d4a-4182-84ed-5cbec7e83af6
DTSTAMP:20260420T030258Z
SUMMARY:Schloss Sandizell mit Asamkirche - Öffentliche Führung
DESCRIPTION:https://regioningolstadt.com/schloss-sandizell-mit-asamkirche-o
 effentliche-fuehrung_id43518
DTSTART;TZID=Europe/Berlin:20260613T140000
DURATION:PT30M
LOCATION:86529 Schrobenhausen\, Schloss Sandizell\, Schloßstraße 4\, 8652
 9 Schrobenhausen
END:VEVENT
END:VCALENDAR
