BEGIN:VCALENDAR
VERSION:2.0
PRODID:-//Sabre//Sabre VObject 4.5.8//EN
CALSCALE:GREGORIAN
BEGIN:VEVENT
UID:sabre-vobject-c2be8caf-9445-451b-995f-43bbfe9df928
DTSTAMP:20260421T222820Z
SUMMARY:Sèter Weinfest
DESCRIPTION:https://regioningolstadt.com/seter-weinfest_id43513
DTSTART;TZID=Europe/Berlin:20260620T180000
DTEND;TZID=Europe/Berlin:20260620T234500
LOCATION:Schrannenplatz\, Schrannenplatz\, 86633 Neuburg an der Donau
END:VEVENT
END:VCALENDAR
