BEGIN:VCALENDAR
VERSION:2.0
PRODID:-//Sabre//Sabre VObject 4.5.8//EN
CALSCALE:GREGORIAN
BEGIN:VEVENT
UID:sabre-vobject-e86f3917-b275-49ae-8877-bf5dfd512936
DTSTAMP:20260419T135805Z
SUMMARY:Auf den Spuren der Kurfürstin-Witwe Maria Leopoldine Rundgang von 
 Stepperg zum Antoniberg - Öffentliche Führung
DESCRIPTION:https://regioningolstadt.com/auf-den-spuren-der-kurfuerstin-wit
 we-maria-leopoldine-rundgang-von-stepperg-zum-antoniberg-oeffentliche-fueh
 rung_id43502
DTSTART;TZID=Europe/Berlin:20260426T140000
DURATION:PT30M
LOCATION:Kirche St. Michael\, Stepperg\, Am Schloß 6\, 86643 Rennertshofen
END:VEVENT
END:VCALENDAR
