BEGIN:VCALENDAR
VERSION:2.0
PRODID:-//Sabre//Sabre VObject 4.5.8//EN
CALSCALE:GREGORIAN
BEGIN:VEVENT
UID:sabre-vobject-f306b3cb-d193-4517-863d-9de2e60cf879
DTSTAMP:20260420T010835Z
SUMMARY:Schloss Sandizell mit Asamkirche - Öffentliche Führung
DESCRIPTION:https://regioningolstadt.com/schloss-sandizell-mit-asamkirche-o
 effentliche-fuehrung_id43500
DTSTART;TZID=Europe/Berlin:20260418T140000
DURATION:PT30M
LOCATION:86529 Schrobenhausen\, Schloss Sandizell\, Schloßstraße 4\, 8652
 9 Schrobenhausen
END:VEVENT
END:VCALENDAR
