BEGIN:VCALENDAR
VERSION:2.0
PRODID:-//Sabre//Sabre VObject 4.5.8//EN
CALSCALE:GREGORIAN
BEGIN:VEVENT
UID:sabre-vobject-f5889fb3-05e6-41c4-bf2d-c120340e01dd
DTSTAMP:20260419T135840Z
SUMMARY:Neuburger Schlossweihnacht
DESCRIPTION:https://regioningolstadt.com/neuburger-schlossweihnacht_id43487
DTSTART;TZID=Europe/Berlin:20261212T130000
DTEND;TZID=Europe/Berlin:20261212T210000
LOCATION:Residenzschloss Neuburg\, Residenzstraße 2\, 86633 Neuburg an der
  Donau
END:VEVENT
END:VCALENDAR
