BEGIN:VCALENDAR
VERSION:2.0
PRODID:-//Sabre//Sabre VObject 4.5.8//EN
CALSCALE:GREGORIAN
BEGIN:VEVENT
UID:sabre-vobject-ba6d55f8-41c7-4aa1-a4f9-a0ed0fd59208
DTSTAMP:20260419T214834Z
SUMMARY:Neuburger Schlossweihnacht
DESCRIPTION:https://regioningolstadt.com/neuburger-schlossweihnacht_id43486
DTSTART;TZID=Europe/Berlin:20261211T160000
DTEND;TZID=Europe/Berlin:20261211T210000
LOCATION:Residenzschloss Neuburg\, Residenzstraße 2\, 86633 Neuburg an der
  Donau
END:VEVENT
END:VCALENDAR
