BEGIN:VCALENDAR
VERSION:2.0
PRODID:-//Sabre//Sabre VObject 4.5.8//EN
CALSCALE:GREGORIAN
BEGIN:VEVENT
UID:sabre-vobject-db254a4e-7d56-4aeb-aaad-db75b5379073
DTSTAMP:20260419T201234Z
SUMMARY:Neuburger Schlossweihnacht
DESCRIPTION:https://regioningolstadt.com/neuburger-schlossweihnacht_id43484
DTSTART;TZID=Europe/Berlin:20261204T160000
DTEND;TZID=Europe/Berlin:20261204T210000
LOCATION:Residenzschloss Neuburg\, Residenzstraße 2\, 86633 Neuburg an der
  Donau
END:VEVENT
END:VCALENDAR
