BEGIN:VCALENDAR
VERSION:2.0
PRODID:-//Sabre//Sabre VObject 4.5.8//EN
CALSCALE:GREGORIAN
BEGIN:VEVENT
UID:sabre-vobject-78e34e13-79a3-44b0-96ca-0b6b97d00b49
DTSTAMP:20260419T135845Z
SUMMARY:Neuburger Schlossweihnacht
DESCRIPTION:https://regioningolstadt.com/neuburger-schlossweihnacht_id43483
DTSTART;TZID=Europe/Berlin:20261205T130000
DTEND;TZID=Europe/Berlin:20261205T210000
LOCATION:Residenzschloss Neuburg\, Residenzstraße 2\, 86633 Neuburg an der
  Donau
END:VEVENT
END:VCALENDAR
