BEGIN:VCALENDAR
VERSION:2.0
PRODID:-//Sabre//Sabre VObject 4.5.8//EN
CALSCALE:GREGORIAN
BEGIN:VEVENT
UID:sabre-vobject-b353834d-c7ae-4ff5-833d-153dce61e032
DTSTAMP:20260419T185512Z
SUMMARY:Weihnachtsmarkt auf dem Schrannenplatz
DESCRIPTION:https://regioningolstadt.com/weihnachtsmarkt-auf-dem-schrannenp
 latz_id43475
DTSTART;TZID=Europe/Berlin:20261208T150000
DTEND;TZID=Europe/Berlin:20261208T190000
LOCATION:Schrannenplatz\, Schrannenplatz\, 86633 Neuburg an der Donau
END:VEVENT
END:VCALENDAR
