BEGIN:VCALENDAR
VERSION:2.0
PRODID:-//Sabre//Sabre VObject 4.5.8//EN
CALSCALE:GREGORIAN
BEGIN:VEVENT
UID:sabre-vobject-eec48ece-5f5a-40b7-95ed-7cc30952cf71
DTSTAMP:20260419T201149Z
SUMMARY:Weihnachtsmarkt auf dem Schrannenplatz
DESCRIPTION:https://regioningolstadt.com/weihnachtsmarkt-auf-dem-schrannenp
 latz_id43472
DTSTART;TZID=Europe/Berlin:20261214T150000
DTEND;TZID=Europe/Berlin:20261214T190000
LOCATION:Schrannenplatz\, Schrannenplatz\, 86633 Neuburg an der Donau
END:VEVENT
END:VCALENDAR
