BEGIN:VCALENDAR
VERSION:2.0
PRODID:-//Sabre//Sabre VObject 4.5.8//EN
CALSCALE:GREGORIAN
BEGIN:VEVENT
UID:sabre-vobject-839ebaa9-e7a5-480e-868a-3a5cd06e08f6
DTSTAMP:20260419T201219Z
SUMMARY:Weihnachtsmarkt auf dem Schrannenplatz
DESCRIPTION:https://regioningolstadt.com/weihnachtsmarkt-auf-dem-schrannenp
 latz_id43470
DTSTART;TZID=Europe/Berlin:20261130T150000
DTEND;TZID=Europe/Berlin:20261130T190000
LOCATION:Schrannenplatz\, Schrannenplatz\, 86633 Neuburg an der Donau
END:VEVENT
END:VCALENDAR
