BEGIN:VCALENDAR
VERSION:2.0
PRODID:-//Sabre//Sabre VObject 4.5.8//EN
CALSCALE:GREGORIAN
BEGIN:VEVENT
UID:sabre-vobject-e120dedb-c6f0-4711-bf85-bec8450b15a3
DTSTAMP:20260419T152600Z
SUMMARY:Weihnachtsmarkt auf dem Schrannenplatz
DESCRIPTION:https://regioningolstadt.com/weihnachtsmarkt-auf-dem-schrannenp
 latz_id43464
DTSTART;TZID=Europe/Berlin:20261212T120000
DTEND;TZID=Europe/Berlin:20261212T200000
LOCATION:Schrannenplatz\, Schrannenplatz\, 86633 Neuburg an der Donau
END:VEVENT
END:VCALENDAR
