BEGIN:VCALENDAR
VERSION:2.0
PRODID:-//Sabre//Sabre VObject 4.5.8//EN
CALSCALE:GREGORIAN
BEGIN:VEVENT
UID:sabre-vobject-cac1893b-7c8c-4190-bfa7-d2e9bc1707ce
DTSTAMP:20260419T152615Z
SUMMARY:Weihnachtsmarkt auf dem Schrannenplatz
DESCRIPTION:https://regioningolstadt.com/weihnachtsmarkt-auf-dem-schrannenp
 latz_id43460
DTSTART;TZID=Europe/Berlin:20261211T150000
DTEND;TZID=Europe/Berlin:20261211T200000
LOCATION:Schrannenplatz\, Schrannenplatz\, 86633 Neuburg an der Donau
END:VEVENT
END:VCALENDAR
