BEGIN:VCALENDAR
VERSION:2.0
PRODID:-//Sabre//Sabre VObject 4.5.8//EN
CALSCALE:GREGORIAN
BEGIN:VEVENT
UID:sabre-vobject-b2dd5853-6647-4c6f-9fcc-bcdf2dedb907
DTSTAMP:20260421T095136Z
SUMMARY:Frühjahrs-Dult
DESCRIPTION:https://regioningolstadt.com/fruehjahrs-dult_id43440
DTSTART;TZID=Europe/Berlin:20260419T103000
DTEND;TZID=Europe/Berlin:20260419T190000
LOCATION:Schrannenplatz\, Schrannenplatz\, 86633 Neuburg an der Donau
END:VEVENT
END:VCALENDAR
