BEGIN:VCALENDAR
VERSION:2.0
PRODID:-//Sabre//Sabre VObject 4.5.8//EN
CALSCALE:GREGORIAN
BEGIN:VEVENT
UID:sabre-vobject-074b8037-d383-4fd2-bdcf-6567105350ea
DTSTAMP:20260419T232733Z
SUMMARY:Wochenmarkt
DESCRIPTION:https://regioningolstadt.com/wochenmarkt_id43414
DTSTART;TZID=Europe/Berlin:20261205T063000
DTEND;TZID=Europe/Berlin:20261205T123000
LOCATION:Schrannenplatz\, Schrannenplatz\, 86633 Neuburg an der Donau
END:VEVENT
END:VCALENDAR
