BEGIN:VCALENDAR
VERSION:2.0
PRODID:-//Sabre//Sabre VObject 4.5.8//EN
CALSCALE:GREGORIAN
BEGIN:VEVENT
UID:sabre-vobject-b3af17d4-3a23-4842-af9f-4c8fa80e458b
DTSTAMP:20260419T171056Z
SUMMARY:Wochenmarkt
DESCRIPTION:https://regioningolstadt.com/wochenmarkt_id43413
DTSTART;TZID=Europe/Berlin:20261128T063000
DTEND;TZID=Europe/Berlin:20261128T123000
LOCATION:Schrannenplatz\, Schrannenplatz\, 86633 Neuburg an der Donau
END:VEVENT
END:VCALENDAR
