BEGIN:VCALENDAR
VERSION:2.0
PRODID:-//Sabre//Sabre VObject 4.5.8//EN
CALSCALE:GREGORIAN
BEGIN:VEVENT
UID:sabre-vobject-9f0d54e8-dbfb-431a-ab18-71d8de4a2266
DTSTAMP:20260419T183912Z
SUMMARY:Wochenmarkt
DESCRIPTION:https://regioningolstadt.com/wochenmarkt_id43412
DTSTART;TZID=Europe/Berlin:20261121T063000
DTEND;TZID=Europe/Berlin:20261121T123000
LOCATION:Schrannenplatz\, Schrannenplatz\, 86633 Neuburg an der Donau
END:VEVENT
END:VCALENDAR
