BEGIN:VCALENDAR
VERSION:2.0
PRODID:-//Sabre//Sabre VObject 4.5.8//EN
CALSCALE:GREGORIAN
BEGIN:VEVENT
UID:sabre-vobject-facf8bc4-5d79-4209-9ff8-d25e5a2ec73a
DTSTAMP:20260419T153558Z
SUMMARY:Wochenmarkt
DESCRIPTION:https://regioningolstadt.com/wochenmarkt_id43410
DTSTART;TZID=Europe/Berlin:20261107T063000
DTEND;TZID=Europe/Berlin:20261107T123000
LOCATION:Schrannenplatz\, Schrannenplatz\, 86633 Neuburg an der Donau
END:VEVENT
END:VCALENDAR
