BEGIN:VCALENDAR
VERSION:2.0
PRODID:-//Sabre//Sabre VObject 4.5.8//EN
CALSCALE:GREGORIAN
BEGIN:VEVENT
UID:sabre-vobject-355a061d-3717-410d-8843-1bb746659ada
DTSTAMP:20260419T183847Z
SUMMARY:Wochenmarkt
DESCRIPTION:https://regioningolstadt.com/wochenmarkt_id43407
DTSTART;TZID=Europe/Berlin:20261017T063000
DTEND;TZID=Europe/Berlin:20261017T123000
LOCATION:Schrannenplatz\, Schrannenplatz\, 86633 Neuburg an der Donau
END:VEVENT
END:VCALENDAR
